BEGIN:VCALENDAR
VERSION:2.0
PRODID:-//MojClub - ECPv5.14.1//NONSGML v1.0//EN
CALSCALE:GREGORIAN
METHOD:PUBLISH
X-WR-CALNAME:MojClub
X-ORIGINAL-URL:http://www.mojclub.de/mcpage
X-WR-CALDESC:Veranstaltungen für MojClub
BEGIN:VTIMEZONE
TZID:Europe/Berlin
BEGIN:DAYLIGHT
TZOFFSETFROM:+0100
TZOFFSETTO:+0200
TZNAME:CEST
DTSTART:20180325T010000
END:DAYLIGHT
BEGIN:STANDARD
TZOFFSETFROM:+0200
TZOFFSETTO:+0100
TZNAME:CET
DTSTART:20181028T010000
END:STANDARD
END:VTIMEZONE
BEGIN:VEVENT
DTSTART;TZID=Europe/Berlin:20180721T230000
DTEND;TZID=Europe/Berlin:20180722T230000
DTSTAMP:20260422T211531
CREATED:20180713T092445Z
LAST-MODIFIED:20180713T092445Z
UID:3660-1532214000-1532300400@www.mojclub.de
SUMMARY:Balkanicious
DESCRIPTION:
URL:http://www.mojclub.de/mcpage/event/balkanicious-5/
LOCATION:MojClub\, Maximiliansplatz 16\, München\, Bayern\, 80333\, Deutschland
CATEGORIES:MojClub
ATTACH;FMTTYPE=image/jpeg:http://www.mojclub.de/mcpage/wp-content/uploads/2018/07/2107_t.jpg
END:VEVENT
END:VCALENDAR